BEGIN:VCALENDAR
PRODID:-//eluceo/ical//2.0/EN
VERSION:2.0
CALSCALE:GREGORIAN
BEGIN:VEVENT
UID:5e68b89d2ed9d8f5de15d54eabd3edea
DTSTAMP:20260424T144631Z
SUMMARY:Betty Legler - die Reise einer Humanautin
DESCRIPTION:"Rock for the Lady"\, "Just the Kisses" oder "Humanaut": wer e
 rinnert sich nicht an die mitreissend-kraftvolle Musik von Betty Legler a
 us den frühen 1980er-Jahren? \n\nDie junge Glarner Starmusikerin von dam
 als lebt heute an der Goldküste. Für den privaten Gebrauch singt sie noc
 h immer hinreissend\, aber sie hat sich - nebst ihrer Familie und vielen R
 eisen - auch ganz anderen Themen zugewandt. Zusammen mit ihrem Mann Lars 
 Thomsen führt sie "Future matters"\, eine spannende Firma für Innovat
 ion und Zukunftsforschung mit Sitz in Zürich. \n\n \nWebbplats: http://
 future-matters.com\nTalare: Betty Legler
URL:https://rotary-meilen.ch/sv/agenda/show/97129
DTSTART;TZID=Europe/Zurich:20190515T000000
DTEND;TZID=Europe/Zurich:20190515T000000
LOCATION:Gasthof Löwen
CATEGORIES:Rotary
END:VEVENT
BEGIN:VTIMEZONE
TZID:Europe/Zurich
BEGIN:DAYLIGHT
DTSTART:20190515T000000
TZNAME:CEST
TZOFFSETTO:+0200
TZOFFSETFROM:+0200
END:DAYLIGHT
END:VTIMEZONE
END:VCALENDAR
