BEGIN:VCALENDAR
PRODID:-//eluceo/ical//2.0/EN
VERSION:2.0
CALSCALE:GREGORIAN
BEGIN:VEVENT
UID:fc7117b34a1644adffc68d37009d4bf5
DTSTAMP:20260424T110821Z
SUMMARY:Sektorkopplung: Strom\, Wärme und Mobilität verbinden
DESCRIPTION:Webbplats: http://www.loewen-meilen.ch\nTalare: Evelyn Bamberge
 r Projektleiterin SPF\, OST Ostschweizer Fachhochschule 
URL:https://rotary-meilen.ch/sv/agenda/show/163860
DTSTART;TZID=Europe/Zurich:20230913T121500
DTEND;TZID=Europe/Zurich:20230913T134500
LOCATION:Apéro ab 11:45 Uhr.  *LEUE STÜBLI*  im Gasthof Löwen\, Meilen.
CATEGORIES:Rotary
END:VEVENT
BEGIN:VTIMEZONE
TZID:Europe/Zurich
BEGIN:DAYLIGHT
DTSTART:20230913T121500
TZNAME:CEST
TZOFFSETTO:+0200
TZOFFSETFROM:+0200
END:DAYLIGHT
END:VTIMEZONE
END:VCALENDAR
