BEGIN:VCALENDAR
PRODID:-//eluceo/ical//2.0/EN
VERSION:2.0
CALSCALE:GREGORIAN
BEGIN:VEVENT
UID:65d763a486da719da25c535e21705fea
DTSTAMP:20260424T173005Z
SUMMARY:Trauerlunch zu Ehren von Rot. Alfred Bänninger
DESCRIPTION:Webbplats: http://www.loewen-meilen.ch\nTalare: Rot. Peter Enge
 lhard
URL:https://rotary-meilen.ch/sv/agenda/show/157693
DTSTART;TZID=Europe/Zurich:20230405T120000
DTEND;TZID=Europe/Zurich:20230405T140000
LOCATION:Gasthof Löwen\, Seestrasse 595\, 8706 Meilen
CATEGORIES:Rotary
END:VEVENT
BEGIN:VTIMEZONE
TZID:Europe/Zurich
BEGIN:DAYLIGHT
DTSTART:20230405T120000
TZNAME:CEST
TZOFFSETTO:+0200
TZOFFSETFROM:+0200
END:DAYLIGHT
END:VTIMEZONE
END:VCALENDAR
