BEGIN:VCALENDAR
PRODID:-//eluceo/ical//2.0/EN
VERSION:2.0
CALSCALE:GREGORIAN
BEGIN:VEVENT
UID:3bf55522529c6557f380bd1480ab9edd
DTSTAMP:20260424T171417Z
SUMMARY:Club Lunch mit Vortrag "Aktuellste Trends in der Bahnindustrie" von
  Raphael Widmer\, CFO Stadler Rail
DESCRIPTION:Webbplats: http://www.loewen-meilen.ch\nTalare: Raphael Widmer\
 , CFO Stadler Rail
URL:https://rotary-meilen.ch/sv/agenda/show/157428
DTSTART;TZID=Europe/Zurich:20230503T120000
DTEND;TZID=Europe/Zurich:20230503T140000
LOCATION:Gasthof Löwen\, Seestrasse 595\, 8706 Meilen
CATEGORIES:Rotary
END:VEVENT
BEGIN:VTIMEZONE
TZID:Europe/Zurich
BEGIN:DAYLIGHT
DTSTART:20230503T120000
TZNAME:CEST
TZOFFSETTO:+0200
TZOFFSETFROM:+0200
END:DAYLIGHT
END:VTIMEZONE
END:VCALENDAR
