BEGIN:VCALENDAR
PRODID:-//eluceo/ical//2.0/EN
VERSION:2.0
CALSCALE:GREGORIAN
BEGIN:VEVENT
UID:c8d1e84adbcbb59e889b1dce8270f174
DTSTAMP:20260425T113313Z
SUMMARY:Club Lunch mit Vortrag "Unternehmertum in Sport und Gastgewerbe" vo
 n Rocco Delli Colli
DESCRIPTION:Webbplats: http://www.loewen-meilen.ch\nTalare: Rocco Delli Col
 li\, \n\nGründer und Mitinhaber der Liefer- und Restaurantkette Dieci\, 
 im Gespräch mit Rot. Kai Ludwig
URL:https://rotary-meilen.ch/sv/agenda/show/157093
DTSTART;TZID=Europe/Zurich:20230315T120000
DTEND;TZID=Europe/Zurich:20230315T140000
LOCATION:Gasthof Löwen\, Seestrasse 595\, 8706 Meilen
CATEGORIES:Rotary
END:VEVENT
BEGIN:VTIMEZONE
TZID:Europe/Zurich
BEGIN:STANDARD
DTSTART:20230315T120000
TZNAME:CET
TZOFFSETTO:+0100
TZOFFSETFROM:+0100
END:STANDARD
END:VTIMEZONE
END:VCALENDAR
