BEGIN:VCALENDAR
PRODID:-//eluceo/ical//2.0/EN
VERSION:2.0
CALSCALE:GREGORIAN
BEGIN:VEVENT
UID:81964bf7749cfe2762e5ec875936cb77
DTSTAMP:20260421T174626Z
SUMMARY:Club Lunch mit Vortrag "Klassifikation" von Rot. Sandra Moebus
DESCRIPTION:Webbplats: http://www.loewen-meilen.ch\nTalare: Rot. Sandra Moe
 bus
URL:https://rotary-meilen.ch/sv/agenda/show/154896
DTSTART;TZID=Europe/Zurich:20230201T120000
DTEND;TZID=Europe/Zurich:20230201T140000
LOCATION:Gasthof Löwen\, Seestrasse 595\, 8706 Meilen
CATEGORIES:Rotary
END:VEVENT
BEGIN:VTIMEZONE
TZID:Europe/Zurich
BEGIN:STANDARD
DTSTART:20230201T120000
TZNAME:CET
TZOFFSETTO:+0100
TZOFFSETFROM:+0100
END:STANDARD
END:VTIMEZONE
END:VCALENDAR
