BEGIN:VCALENDAR
PRODID:-//eluceo/ical//2.0/EN
VERSION:2.0
CALSCALE:GREGORIAN
BEGIN:VEVENT
UID:7398a73493ee98075c7032e76bf1e630
DTSTAMP:20260421T174300Z
SUMMARY:Club Lunch mit Vortrag "Digitale Innovation in der Administration p
 rivater Arbeitsverhältnisse" von Marie-Christin Kamann
DESCRIPTION:Webbplats: http://www.loewen-meilen.ch\nTalare: Marie-Kristin K
 amann\, VRP und CEO ServiceHunter AG
URL:https://rotary-meilen.ch/sv/agenda/show/154879
DTSTART;TZID=Europe/Zurich:20230208T120000
DTEND;TZID=Europe/Zurich:20230208T140000
LOCATION:Gasthof Löwen\, Seestrasse 595\, 8706 Meilen
CATEGORIES:Rotary
END:VEVENT
BEGIN:VTIMEZONE
TZID:Europe/Zurich
BEGIN:STANDARD
DTSTART:20230208T120000
TZNAME:CET
TZOFFSETTO:+0100
TZOFFSETFROM:+0100
END:STANDARD
END:VTIMEZONE
END:VCALENDAR
