BEGIN:VCALENDAR
PRODID:-//eluceo/ical//2.0/EN
VERSION:2.0
CALSCALE:GREGORIAN
BEGIN:VEVENT
UID:9699e14689b7ae7e94242611f8c8e6f2
DTSTAMP:20260425T002751Z
SUMMARY:Club Lunch mit Vortrag "Lebenslauf" von Stefan Muggli
DESCRIPTION:Webbplats: http://www.loewen-meilen.ch\nTalare: Rot. Stefan Mug
 gli
URL:https://rotary-meilen.ch/sv/agenda/show/149579
DTSTART;TZID=Europe/Zurich:20221109T120000
DTEND;TZID=Europe/Zurich:20221109T140000
LOCATION:Gasthof Löwen\, Seestrasse 595\, 8706 Meilen
CATEGORIES:Rotary
END:VEVENT
BEGIN:VTIMEZONE
TZID:Europe/Zurich
BEGIN:STANDARD
DTSTART:20221109T120000
TZNAME:CET
TZOFFSETTO:+0100
TZOFFSETFROM:+0100
END:STANDARD
END:VTIMEZONE
END:VCALENDAR
