BEGIN:VCALENDAR
PRODID:-//eluceo/ical//2.0/EN
VERSION:2.0
CALSCALE:GREGORIAN
BEGIN:VEVENT
UID:3232b2ec82d47d0ab26aa80204d4566e
DTSTAMP:20260424T213204Z
SUMMARY:Plauderlunch
DESCRIPTION:Webbplats: http://www.loewen-meilen.ch
URL:https://rotary-meilen.ch/sv/agenda/show/149549
DTSTART;TZID=Europe/Zurich:20221207T120000
DTEND;TZID=Europe/Zurich:20221207T140000
LOCATION:Gasthof Löwen\, Seestrasse 595\, 8706 Meilen
CATEGORIES:Rotary
END:VEVENT
BEGIN:VTIMEZONE
TZID:Europe/Zurich
BEGIN:STANDARD
DTSTART:20221207T120000
TZNAME:CET
TZOFFSETTO:+0100
TZOFFSETFROM:+0100
END:STANDARD
END:VTIMEZONE
END:VCALENDAR
