BEGIN:VCALENDAR
PRODID:-//eluceo/ical//2.0/EN
VERSION:2.0
CALSCALE:GREGORIAN
BEGIN:VEVENT
UID:30ac7bf1ee04c70e608df68e62564349
DTSTAMP:20260423T194542Z
SUMMARY:Club Lunch mit Vortrag "Haben wir in der Schweiz noch Platz für B
 är\, Wolf und Luchs?"
DESCRIPTION:Webbplats: http://www.loewen-meilen.ch\nTalare: Rot. Max Straub
URL:https://rotary-meilen.ch/sv/agenda/show/148370
DTSTART;TZID=Europe/Zurich:20220928T120000
DTEND;TZID=Europe/Zurich:20220928T140000
LOCATION:Gasthof Löwen\, Seestrasse 595\, 8706 Meilen
CATEGORIES:Rotary
END:VEVENT
BEGIN:VTIMEZONE
TZID:Europe/Zurich
BEGIN:DAYLIGHT
DTSTART:20220928T120000
TZNAME:CEST
TZOFFSETTO:+0200
TZOFFSETFROM:+0200
END:DAYLIGHT
END:VTIMEZONE
END:VCALENDAR
