BEGIN:VCALENDAR
PRODID:-//eluceo/ical//2.0/EN
VERSION:2.0
CALSCALE:GREGORIAN
BEGIN:VEVENT
UID:ff294379e59654923a73162330ccd065
DTSTAMP:20260425T141739Z
SUMMARY:Clublunch mit Vortrag "Madagaskar" von Felix Meier
DESCRIPTION:Webbplats: http://www.loewen-meilen.ch\nTalare: Rot. Felix Meie
 r
URL:https://rotary-meilen.ch/sv/agenda/show/148200
DTSTART;TZID=Europe/Zurich:20220921T120000
DTEND;TZID=Europe/Zurich:20220921T140000
LOCATION:Gasthof Löwen\, Seestrasse 595\, 8706 Meilen
CATEGORIES:Rotary
END:VEVENT
BEGIN:VTIMEZONE
TZID:Europe/Zurich
BEGIN:DAYLIGHT
DTSTART:20220921T120000
TZNAME:CEST
TZOFFSETTO:+0200
TZOFFSETFROM:+0200
END:DAYLIGHT
END:VTIMEZONE
END:VCALENDAR
