BEGIN:VCALENDAR
PRODID:-//eluceo/ical//2.0/EN
VERSION:2.0
CALSCALE:GREGORIAN
BEGIN:VEVENT
UID:7ed114b79c8b0e7709aa856917ec2590
DTSTAMP:20260425T012917Z
SUMMARY:Cybersecurity: ein Praxisbeispiel
DESCRIPTION:Sprekers: Martin Kelterborn\, Cybersecurity
URL:https://rotary-meilen.ch/nl/agenda/show/161288
DTSTART;TZID=Europe/Zurich:20230712T121500
DTEND;TZID=Europe/Zurich:20230712T134500
LOCATION:Apéro ab 11:45. Gasthof Löwen\, Meilen
CATEGORIES:Rotary
END:VEVENT
BEGIN:VTIMEZONE
TZID:Europe/Zurich
BEGIN:DAYLIGHT
DTSTART:20230712T121500
TZNAME:CEST
TZOFFSETTO:+0200
TZOFFSETFROM:+0200
END:DAYLIGHT
END:VTIMEZONE
END:VCALENDAR
