BEGIN:VCALENDAR
PRODID:-//eluceo/ical//2.0/EN
VERSION:2.0
CALSCALE:GREGORIAN
BEGIN:VEVENT
UID:0855675dc88b420a17b8bfd976a856d3
DTSTAMP:20260425T102244Z
SUMMARY:Club Lunch mit Vortrag "Katastrophenhilfe in Arriach / Kärnten" vo
 n Rot. Friedrich Prause
DESCRIPTION:Sito web: http://www.loewen-meilen.ch\nRelatore/i: Rot. Friedri
 ch Prause\, RC Carinthia Connect
URL:https://rotary-meilen.ch/it/agenda/show/156895
DTSTART;TZID=Europe/Zurich:20230412T120000
DTEND;TZID=Europe/Zurich:20230412T140000
LOCATION:Gasthof Löwen\, Seestrasse 595\, 8706 Meilen
CATEGORIES:Rotary
END:VEVENT
BEGIN:VTIMEZONE
TZID:Europe/Zurich
BEGIN:DAYLIGHT
DTSTART:20230412T120000
TZNAME:CEST
TZOFFSETTO:+0200
TZOFFSETFROM:+0200
END:DAYLIGHT
END:VTIMEZONE
END:VCALENDAR
