BEGIN:VCALENDAR
PRODID:-//eluceo/ical//2.0/EN
VERSION:2.0
CALSCALE:GREGORIAN
BEGIN:VEVENT
UID:7b3cd24a133027619caee18cae233add
DTSTAMP:20260421T143658Z
SUMMARY:Kontakttreffen mit RC Memmingen: Bundesgartenschau Heilbronn
DESCRIPTION:Jede Woche eine andere Blumenschau in der geschichtsträchtigen
  Industriearchitektur des Fruchtschuppens\, inspirierende Gartenthemen in 
 den Gartenkabinetten des Inzwischenlands\, wechselnde Blumenwelten zwische
 n den Hügeln der Sommerinsel\, die zwei neu angelegte Seen miteinander ve
 rbindet\, Ruhe und Entspannung im Neckaruferpark oder der Panoramablick vo
 m Hafenpark über die Stadt bis in die Weinberge – die BUGA hat immer wi
 eder Neues zu bieten.\n\nDie Bundesgartenschau geht erstmals eine Symbiose
  aus Garten- und Stadtausstellung ein und bietet neben großem gärtnerisc
 hem Können auch Themen wie Menschen zukünftig wohnen\, wie sich Mobilit
 ät verändert\, wie Digitalisierung ihr Leben prägt. Sie geht auch darau
 f ein\, wie und wo Materialien von morgen eingesetzt werden\, wie Ressourc
 en geschont werden können.\n\nDie BUGA legt den Grundstein für das spät
 ere Stadtquartier Neckarbogen\, das mit 23 kompakt gebauten\, bereits bewo
 hnten Häusern mitten auf der BUGA beginnt und zeigt\, wie Wohnen der Zuku
 nft aussehen kann.\n\nNeben Konzerten bekannter Künstler lädt die BUGA z
 u regelmäßigen Veranstaltungen ein – auch das in der Dauerkarte „Bl
 ühendes Leben." inbegriffen: mittwochs präsentieren sich Musikschulen\, 
 Donnerstag nachmittags sind Chorkonzerte zu hören\, sonntags spielt Blasm
 usik auf\, Gottesdienste finden statt. \n\nAfter-Work-Konzerte mit region
 alen Bands\, Clubabende mit DJ\, Coverband mit Hits der 70er\, 80er\, 90er
 -Jahre unterhalten die Besucher. \nSitio web: https://www.buga2019.de/de/
 index.php\nOrador(es): Rot. H.P. Faas (RC Memmingen)\, Präsident Martin S
 chmäh
URL:https://rotary-meilen.ch/es/agenda/show/90183
DTSTART;TZID=Europe/Zurich:20190517T000000
DTEND;TZID=Europe/Zurich:20190519T000000
LOCATION:Heilbronn
CATEGORIES:Rotary
END:VEVENT
BEGIN:VTIMEZONE
TZID:Europe/Zurich
BEGIN:DAYLIGHT
DTSTART:20190517T000000
TZNAME:CEST
TZOFFSETTO:+0200
TZOFFSETFROM:+0200
END:DAYLIGHT
END:VTIMEZONE
END:VCALENDAR
