BEGIN:VCALENDAR
PRODID:-//eluceo/ical//2.0/EN
VERSION:2.0
CALSCALE:GREGORIAN
BEGIN:VEVENT
UID:50d071c9b2b44131ac8a37e319a3c11a
DTSTAMP:20260421T101148Z
SUMMARY:RYLA 2026
DESCRIPTION:Orador(es): 
URL:https://rotary2000.ch/es/agenda/show/204754
DTSTART;TZID=Europe/Zurich:20260430T100000
DTEND;TZID=Europe/Zurich:20260503T160000
LOCATION:Stump's Alpenrose\, Wildhaus
CATEGORIES:Rotary
END:VEVENT
BEGIN:VTIMEZONE
TZID:Europe/Zurich
BEGIN:DAYLIGHT
DTSTART:20260430T100000
TZNAME:CEST
TZOFFSETTO:+0200
TZOFFSETFROM:+0200
END:DAYLIGHT
END:VTIMEZONE
END:VCALENDAR
