BEGIN:VCALENDAR
PRODID:-//eluceo/ical//2.0/EN
VERSION:2.0
CALSCALE:GREGORIAN
BEGIN:VEVENT
UID:9c01318e9c04ae86fade0234fcbb9dea
DTSTAMP:20260420T133451Z
SUMMARY:Breast is best! Warum wir auch heute nicht ums Stillen kommen.
DESCRIPTION:Die beruflichen Schwerpunkte der Referentin sind: fetomaternal
 e Medizin\, Risikogeburtshilfe\, internistische Erkrankungen der Mutter 
 und Stillprobleme. \nWebsite: https://www.geburtshilfe.usz.ch/ueber-dies
 e-klinik/Seiten/team.aspx\nSpeaker(s): Dr. med. Franziska Krähenmann\, Le
 itende Ärztin an der Klinik für Geburtshilfe des UniversitätsSpital Zü
 rich
URL:https://rotary-meilen.ch/en/agenda/show/96835
DTSTART;TZID=Europe/Zurich:20190522T000000
DTEND;TZID=Europe/Zurich:20190522T000000
LOCATION:Gasthof Löwen
CATEGORIES:Rotary
END:VEVENT
BEGIN:VTIMEZONE
TZID:Europe/Zurich
BEGIN:DAYLIGHT
DTSTART:20190522T000000
TZNAME:CEST
TZOFFSETTO:+0200
TZOFFSETFROM:+0200
END:DAYLIGHT
END:VTIMEZONE
END:VCALENDAR
