BEGIN:VCALENDAR
PRODID:-//eluceo/ical//2.0/EN
VERSION:2.0
CALSCALE:GREGORIAN
BEGIN:VEVENT
UID:0f9fa1db6b366365d751f99658c1b1f7
DTSTAMP:20260422T132603Z
SUMMARY:Vortrag (Für Teile: Clubreise Hamburg)
DESCRIPTION:
URL:https://rotary-meilen.ch/en/agenda/show/86658
DTSTART;TZID=Europe/Zurich:20190605T000000
DTEND;TZID=Europe/Zurich:20190605T000000
LOCATION:Gasthof Löwen
CATEGORIES:Rotary
END:VEVENT
BEGIN:VTIMEZONE
TZID:Europe/Zurich
BEGIN:DAYLIGHT
DTSTART:20190605T000000
TZNAME:CEST
TZOFFSETTO:+0200
TZOFFSETFROM:+0200
END:DAYLIGHT
END:VTIMEZONE
END:VCALENDAR
