BEGIN:VCALENDAR
PRODID:-//eluceo/ical//2.0/EN
VERSION:2.0
CALSCALE:GREGORIAN
BEGIN:VEVENT
UID:4414182fc8b484a634b0561d4ac61a57
DTSTAMP:20260422T222704Z
SUMMARY:Charity Golfturnier – Anmeldung
DESCRIPTION:
URL:https://rotary2000.ch/de/agenda/show/176814
DTSTART;TZID=Europe/Zurich:20240917T090000
DTEND;TZID=Europe/Zurich:20240917T230000
LOCATION:Golfclub Rheinblick\,  Rheinstraße 4\, 79807 Lottstetten\, Deutsc
 hland
CATEGORIES:Rotary
END:VEVENT
BEGIN:VTIMEZONE
TZID:Europe/Zurich
BEGIN:DAYLIGHT
DTSTART:20240917T090000
TZNAME:CEST
TZOFFSETTO:+0200
TZOFFSETFROM:+0200
END:DAYLIGHT
END:VTIMEZONE
END:VCALENDAR
