BEGIN:VCALENDAR
PRODID:-//eluceo/ical//2.0/EN
VERSION:2.0
CALSCALE:GREGORIAN
BEGIN:VEVENT
UID:1973dd8a2f71cfd758524a797fa71e09
DTSTAMP:20260424T000010Z
SUMMARY:Club Lunch mit Vortrag "Bericht von der Maternité Siem Reap" von R
 ot. Dr. med. Maggie Hüsler
DESCRIPTION:Webseite: http://www.loewen-meilen.ch\nReferenten/innen: Rot. D
 r. med. Margaret Hüsler\, Chefärztin Geburtshilfe Kantonsspital Frauenf
 eld
URL:https://rotary-meilen.ch/de/agenda/show/157260
DTSTART;TZID=Europe/Zurich:20230621T120000
DTEND;TZID=Europe/Zurich:20230621T140000
LOCATION:Gasthof Löwen\, Seestrasse 595\, 8706 Meilen
CATEGORIES:Rotary
END:VEVENT
BEGIN:VTIMEZONE
TZID:Europe/Zurich
BEGIN:DAYLIGHT
DTSTART:20230621T120000
TZNAME:CEST
TZOFFSETTO:+0200
TZOFFSETFROM:+0200
END:DAYLIGHT
END:VTIMEZONE
END:VCALENDAR
