BEGIN:VCALENDAR
PRODID:-//eluceo/ical//2.0/EN
VERSION:2.0
CALSCALE:GREGORIAN
BEGIN:VEVENT
UID:f6b3568bc172c60f4aa0041cfd2605f6
DTSTAMP:20260419T121848Z
SUMMARY:Abendanlass mit Partner: Kulturpreisverleihung 2022
DESCRIPTION:Web stranica: http://www.loewen-meilen.ch
URL:https://rotary-meilen.ch/bs/agenda/show/141808
DTSTART;TZID=Europe/Zurich:20220615T183000
DTEND;TZID=Europe/Zurich:20220615T213000
LOCATION:Gasthof Löwen\, Seestrasse 595\, 8706 Meilen
CATEGORIES:Rotary
END:VEVENT
BEGIN:VTIMEZONE
TZID:Europe/Zurich
BEGIN:DAYLIGHT
DTSTART:20220615T183000
TZNAME:CEST
TZOFFSETTO:+0200
TZOFFSETFROM:+0200
END:DAYLIGHT
END:VTIMEZONE
END:VCALENDAR
